{"text_format":"1","workbook":"xlsx","n_sheets":4,"sheets":["Total","入力","印刷","法名帳"],"not_rendered":{"charts":0,"images":1,"macros":1,"external_links":0,"defined_names":5,"comments":1,"pivot_tables":0},"unopened":[],"bounds":{"document_bytes":16777216,"sheet_cells":100000,"rows_first":2000,"rows_last":500,"rows_between":2000,"halvings":0,"cell_chars":16384,"cell_head_chars":4096},"cells_cut":0,"cells_raw":0,"read":"whole","date_system":"1900"}

{"sheet":"Total","index":0,"n_rows":119,"n_cols":10,"rows_kept":119,"cut":false,"hidden":false,"merged":[[2,0,2,1]]}
[]
[null,null,null,"集計欄"]
[{"$f":"TODAY()","v":"2021-08-13"},null,null,null,{"$f":"入力!G1","v":0},"名"]
[]
["法名家",null,null,"ページ１",{"$f":"入力!G16","v":0}]
["俗名",null,null,"ページ２",{"$f":"入力!G31","v":0}]
["行年",null,null,"ページ３",{"$f":"入力!G46","v":0}]
[null,null,null,"ページ４",{"$f":"入力!G61","v":0}]
[null,null,null,"ページ５",{"$f":"入力!G76","v":0}]
["経費",null,null,"ページ６",{"$f":"入力!G91","v":0}]
["お寺（お布施）：",null,null,"ページ７",{"$f":"入力!G106","v":0}]
[null,null,null,"ページ８",{"$f":"入力!G121","v":0}]
[null,null,null,"ページ９",{"$f":"入力!G136","v":0}]
["経費合計",{"$f":"SUM(B11:B13)","v":0},null,"ページ１０",{"$f":"入力!G151","v":0}]
[null,null,null,"ページ１１",{"$f":"入力!G166","v":0},null,null,null,null,"←印刷実行。プリンタをクリックする"]
[null,null,null,"ページ１２",{"$f":"入力!G181","v":0}]
["香料",{"$f":"E28","v":0},null,"ページ１３",{"$f":"入力!G196","v":0}]
["経費",{"$f":"B14","v":0},null,"ページ１４",{"$f":"入力!G211","v":0}]
["現金残高",{"$f":"B17-B18","v":0},null,"ページ１５",{"$f":"入力!G226","v":0}]
[null,null,null,"ページ１６",{"$f":"入力!G241","v":0}]
[null,null,null,"ページ１７",{"$f":"入力!G256","v":0}]
[null,null,null,"ページ１８",{"$f":"入力!G271","v":0}]
[null,null,null,"ページ１９",{"$f":"入力!G286","v":0}]
[null,null,null,"ページ２０",{"$f":"入力!G301","v":0}]
[null,null,null,"ページ２１",{"$f":"入力!G316","v":0}]
[null,null,null,"ページ２２",{"$f":"入力!G331","v":0}]
[null,null,null,"ページ２３",{"$f":"入力!G346","v":0}]
[null,null,null,"Total",{"$f":"SUM(E5:E27)","v":0}]
[]
[]
[]
[]
[]
[]
[]
[]
[]
[]
[]
[]
[]
[]
[]
[]
[]
[]
[]
[]
[]
[]
[]
[]
[]
[]
[]
[]
[]
[]
[]
[]
[]
[]
[]
[]
[]
[]
[]
[]
[]
[]
[]
[]
[]
[]
[]
[]
[]
[]
[]
[]
[]
[]
[]
[]
[]
[]
[]
[]
[]
[]
[]
[]
[]
[]
[]
[]
[]
[]
[]
[]
[]
[]
[]
[]
[]
[]
[]
[]
[]
[]
[]
[]
[]
[]
[]
[]
[]
[]
["矢板：090-3595-3301"]

{"sheet":"入力","index":1,"n_rows":346,"n_cols":9,"rows_kept":346,"cut":false,"hidden":false,"merged":[]}
["番号","氏名","住所","千円","金額","累計",{"$f":"COUNT(D2:D346)","v":0},{"$f":"ROUNDUP(G1/15,0)","v":0}]
[1,null,null,null,{"$f":"D2*1000","v":0},{"$f":"E2","v":0}]
[2,null,null,null,0,{"$f":"IF(D3<>\"\",F2+E3,0)","v":0}]
[3,null,null,null,0,{"$f":"IF(D4<>\"\",F3+E4,0)","v":0}]
[4,null,null,null,0,0]
[5,null,null,null,0,0]
[6,null,null,null,0,0]
[7,null,null,null,0,0,null,null,"↑50音順に並べ替える"]
[8,null,null,null,0,0]
[9,null,null,null,0,{"$f":"IF(D10<>\"\",F9+E10,0)","v":0}]
[10,null,null,null,0,0]
[11,null,null,null,0,0]
[12,null,null,null,0,0]
[13,null,null,null,0,0]
[14,null,null,null,0,0]
[15,null,null,null,0,0,{"$f":"SUM(E2:E16)","v":0},"１頁"]
[16,null,null,null,0,0]
[17,null,null,null,0,0]
[18,null,null,null,0,0]
[19,null,null,null,0,0]
[20,null,null,null,0,0]
[21,null,null,null,0,0]
[22,null,null,null,0,0]
[23,null,null,null,0,0]
[24,null,null,null,0,0]
[25,null,null,null,0,0]
[26,null,null,null,0,0]
[27,null,null,null,0,0]
[28,null,null,null,0,0]
[29,null,null,null,0,0]
[30,null,null,null,0,0,{"$f":"SUM(E17:E31)","v":0},"２頁"]
[31,null,null,null,0,0]
[32,null,null,null,0,0]
[33,null,null,null,0,0]
[34,null,null,null,0,0]
[35,null,null,null,0,0]
[36,null,null,null,0,0]
[37,null,null,null,0,0]
[38,null,null,null,0,0]
[39,null,null,null,0,0]
[40,null,null,null,0,0]
[41,null,null,null,0,0]
[42,null,null,null,0,0]
[43,null,null,null,0,0]
[44,null,null,null,0,0]
[45,null,null,null,0,0,{"$f":"SUM(E32:E46)","v":0},"３頁"]
[46,null,null,null,0,0]
[47,null,null,null,0,0]
[48,null,null,null,0,0]
[49,null,null,null,0,0]
[50,null,null,null,0,0]
[51,null,null,null,0,0]
[52,null,null,null,0,0]
[53,null,null,null,0,0]
[54,null,null,null,0,0]
[55,null,null,null,0,0]
[56,null,null,null,0,0]
[57,null,null,null,0,0]
[58,null,null,null,0,0]
[59,null,null,null,0,0]
[60,null,null,null,0,0,{"$f":"SUM(E47:E61)","v":0},"４頁"]
[61,null,null,null,0,0]
[62,null,null,null,0,0]
[63,null,null,null,0,0]
[64,null,null,null,0,0]
[65,null,null,null,{"$f":"D66*1000","v":0},0]
[66,null,null,null,0,0]
[67,null,null,null,0,{"$f":"IF(D68<>\"\",F67+E68,0)","v":0}]
[68,null,null,null,0,0]
[69,null,null,null,0,0]
[70,null,null,null,0,0]
[71,null,null,null,0,0]
[72,null,null,null,0,0]
[73,null,null,null,0,0]
[74,null,null,null,0,0]
[75,null,null,null,0,0,{"$f":"SUM(E62:E76)","v":0},"５頁"]
[76,null,null,null,0,0]
[77,null,null,null,0,0]
[78,null,null,null,0,0]
[79,null,null,null,0,0]
[80,null,null,null,0,0]
[81,null,null,null,0,0]
[82,null,null,null,0,0]
[83,null,null,null,0,0]
[84,null,null,null,0,0]
[85,null,null,null,0,0]
[86,null,null,null,0,0]
[87,null,null,null,0,0]
[88,null,null,null,0,0]
[89,null,null,null,0,0]
[90,null,null,null,0,0,{"$f":"SUM(E77:E91)","v":0},"６頁"]
[91,null,null,null,0,0]
[92,null,null,null,0,0]
[93,null,null,null,0,0]
[94,null,null,null,0,0]
[95,null,null,null,0,0]
[96,null,null,null,0,0]
[97,null,null,null,0,0]
[98,null,null,null,0,0]
[99,null,null,null,0,0]
[100,null,null,null,0,0]
[101,null,null,null,0,0]
[102,null,null,null,0,0]
[103,null,null,null,0,0]
[104,null,null,null,0,0]
[105,null,null,null,0,0,{"$f":"SUM(E92:E106)","v":0},"７頁"]
[106,null,null,null,0,0]
[107,null,null,null,0,0]
[108,null,null,null,0,0]
[109,null,null,null,0,0]
[110,null,null,null,0,0]
[111,null,null,null,0,0]
[112,null,null,null,0,0]
[113,null,null,null,0,0]
[114,null,null,null,0,0]
[115,null,null,null,0,0]
[116,null,null,null,0,0]
[117,null,null,null,0,0]
[118,null,null,null,0,0]
[119,null,null,null,0,0]
[120,null,null,null,0,0,{"$f":"SUM(E107:E121)","v":0},"８頁"]
[121,null,null,null,0,0]
[122,null,null,null,0,0]
[123,null,null,null,0,0]
[124,null,null,null,0,0]
[125,null,null,null,0,0]
[126,null,null,null,0,0]
[127,null,null,null,0,0]
[128,null,null,null,0,0]
[129,null,null,null,{"$f":"D130*1000","v":0},0]
[130,null,null,null,0,0]
[131,null,null,null,0,{"$f":"IF(D132<>\"\",F131+E132,0)","v":0}]
[132,null,null,null,0,0]
[133,null,null,null,0,0]
[134,null,null,null,0,0]
[135,null,null,null,0,0,{"$f":"SUM(E122:E136)","v":0},"９頁"]
[136,null,null,null,0,0]
[137,null,null,null,0,0]
[138,null,null,null,0,0]
[139,null,null,null,0,0]
[140,null,null,null,0,0]
[141,null,null,null,0,0]
[142,null,null,null,0,0]
[143,null,null,null,0,0]
[144,null,null,null,0,0]
[145,null,null,null,0,0]
[146,null,null,null,0,0]
[147,null,null,null,0,0]
[148,null,null,null,0,0]
[149,null,null,null,0,0]
[150,null,null,null,0,0,{"$f":"SUM(E137:E151)","v":0},"１０頁"]
[151,null,null,null,0,0]
[152,null,null,null,0,0]
[153,null,null,null,0,0]
[154,null,null,null,0,0]
[155,null,null,null,0,0]
[156,null,null,null,0,0]
[157,null,null,null,0,0]
[158,null,null,null,0,0]
[159,null,null,null,0,0]
[160,null,null,null,0,0]
[161,null,null,null,0,0]
[162,null,null,null,0,0]
[163,null,null,null,0,0]
[164,null,null,null,0,0]
[165,null,null,null,0,0,{"$f":"SUM(E152:E166)","v":0},"１１頁"]
[166,null,null,null,0,0]
[167,null,null,null,0,0]
[168,null,null,null,0,0]
[169,null,null,null,0,0]
[170,null,null,null,0,0]
[171,null,null,null,0,0]
[172,null,null,null,0,0]
[173,null,null,null,0,0]
[174,null,null,null,0,0]
[175,null,null,null,0,0]
[176,null,null,null,0,0]
[177,null,null,null,0,0]
[178,null,null,null,0,0]
[179,null,null,null,0,0]
[180,null,null,null,0,0,{"$f":"SUM(E167:E181)","v":0},"１２頁"]
[181,null,null,null,0,0]
[182,null,null,null,0,0]
[183,null,null,null,0,0]
[184,null,null,null,0,0]
[185,null,null,null,0,0]
[186,null,null,null,0,0]
[187,null,null,null,0,0]
[188,null,null,null,0,0]
[189,null,null,null,0,0]
[190,null,null,null,0,0]
[191,null,null,null,0,0]
[192,null,null,null,0,0]
[193,null,null,null,{"$f":"D194*1000","v":0},0]
[194,null,null,null,0,0]
[195,null,null,null,0,{"$f":"IF(D196<>\"\",F195+E196,0)","v":0},{"$f":"SUM(E182:E196)","v":0},"１３頁"]
[196,null,null,null,0,0]
[197,null,null,null,0,0]
[198,null,null,null,0,0]
[199,null,null,null,0,0]
[200,null,null,null,0,0]
[201,null,null,null,0,0]
[202,null,null,null,0,0]
[203,null,null,null,0,0]
[204,null,null,null,0,0]
[205,null,null,null,0,0]
[206,null,null,null,0,0]
[207,null,null,null,0,0]
[208,null,null,null,0,0]
[209,null,null,null,0,0]
[210,null,null,null,0,0,{"$f":"SUM(E197:E211)","v":0},"１４頁"]
[211,null,null,null,0,0]
[212,null,null,null,0,0]
[213,null,null,null,0,0]
[214,null,null,null,0,0]
[215,null,null,null,0,0]
[216,null,null,null,0,0]
[217,null,null,null,0,0]
[218,null,null,null,0,0]
[219,null,null,null,0,0]
[220,null,null,null,0,0]
[221,null,null,null,0,0]
[222,null,null,null,0,0]
[223,null,null,null,0,0]
[224,null,null,null,0,0]
[225,null,null,null,0,0,{"$f":"SUM(E212:E226)","v":0},"１５頁"]
[226,null,null,null,0,0]
[227,null,null,null,0,0]
[228,null,null,null,0,0]
[229,null,null,null,0,0]
[230,null,null,null,0,0]
[231,null,null,null,0,0]
[232,null,null,null,0,0]
[233,null,null,null,0,0]
[234,null,null,null,0,0]
[235,null,null,null,0,0]
[236,null,null,null,0,0]
[237,null,null,null,0,0]
[238,null,null,null,0,0]
[239,null,null,null,0,0]
[240,null,null,null,0,0,{"$f":"SUM(E227:E241)","v":0},"１６頁"]
[241,null,null,null,0,0]
[242,null,null,null,0,0]
[243,null,null,null,0,0]
[244,null,null,null,0,0]
[245,null,null,null,0,0]
[246,null,null,null,0,0]
[247,null,null,null,0,0]
[248,null,null,null,0,0]
[249,null,null,null,0,0]
[250,null,null,null,0,0]
[251,null,null,null,0,0]
[252,null,null,null,0,0]
[253,null,null,null,0,0]
[254,null,null,null,0,0]
[255,null,null,null,0,0,{"$f":"SUM(E242:E256)","v":0},"１７頁"]
[256,null,null,null,0,0]
[257,null,null,null,{"$f":"D258*1000","v":0},0]
[258,null,null,null,0,0]
[259,null,null,null,0,{"$f":"IF(D260<>\"\",F259+E260,0)","v":0}]
[260,null,null,null,0,0]
[261,null,null,null,0,0]
[262,null,null,null,0,0]
[263,null,null,null,0,0]
[264,null,null,null,0,0]
[265,null,null,null,0,0]
[266,null,null,null,0,0]
[267,null,null,null,0,0]
[268,null,null,null,0,0]
[269,null,null,null,0,0]
[270,null,null,null,0,0,{"$f":"SUM(E257:E271)","v":0},"１８頁"]
[271,null,null,null,0,0]
[272,null,null,null,0,0]
[273,null,null,null,0,0]
[274,null,null,null,0,0]
[275,null,null,null,0,0]
[276,null,null,null,0,0]
[277,null,null,null,0,0]
[278,null,null,null,0,0]
[279,null,null,null,0,0]
[280,null,null,null,0,0]
[281,null,null,null,0,0]
[282,null,null,null,0,0]
[283,null,null,null,0,0]
[284,null,null,null,0,0]
[285,null,null,null,0,0,{"$f":"SUM(E272:E286)","v":0},"１９頁"]
[286,null,null,null,0,0]
[287,null,null,null,0,0]
[288,null,null,null,0,0]
[289,null,null,null,0,0]
[290,null,null,null,0,0]
[291,null,null,null,0,0]
[292,null,null,null,0,0]
[293,null,null,null,0,0]
[294,null,null,null,0,0]
[295,null,null,null,0,0]
[296,null,null,null,0,0]
[297,null,null,null,0,0]
[298,null,null,null,0,0]
[299,null,null,null,0,0]
[300,null,null,null,0,0,{"$f":"SUM(E287:E301)","v":0},"２０頁"]
[301,null,null,null,0,0]
[302,null,null,null,0,0]
[303,null,null,null,0,0]
[304,null,null,null,0,0]
[305,null,null,null,0,0]
[306,null,null,null,0,0]
[307,null,null,null,0,0]
[308,null,null,null,0,0]
[309,null,null,null,0,0]
[310,null,null,null,0,0]
[311,null,null,null,0,0]
[312,null,null,null,0,0]
[313,null,null,null,0,0]
[314,null,null,null,0,0]
[315,null,null,null,0,0,{"$f":"SUM(E302:E316)","v":0},"２１頁"]
[316,null,null,null,0,0]
[317,null,null,null,0,0]
[318,null,null,null,0,0]
[319,null,null,null,0,0]
[320,null,null,null,0,0]
[321,null,null,null,{"$f":"D322*1000","v":0},{"$f":"IF(D322<>\"\",F321+E322,0)","v":0}]
[322,null,null,null,0,0]
[323,null,null,null,0,{"$f":"IF(D324<>\"\",F323+E324,0)","v":0}]
[324,null,null,null,0,0]
[325,null,null,null,0,0]
[326,null,null,null,0,0]
[327,null,null,null,0,0]
[328,null,null,null,0,0]
[329,null,null,null,0,0]
[330,null,null,null,0,0,{"$f":"SUM(E317:E331)","v":0},"２２頁"]
[331,null,null,null,0,0]
[332,null,null,null,0,0]
[333,null,null,null,0,0]
[334,null,null,null,0,0]
[335,null,null,null,0,0]
[336,null,null,null,0,0]
[337,null,null,null,0,0]
[338,null,null,null,0,0]
[339,null,null,null,0,0]
[340,null,null,null,0,0]
[341,null,null,null,0,0]
[342,null,null,null,0,0]
[343,null,null,null,0,0]
[344,null,null,null,0,0]
[345,null,null,null,0,0,{"$f":"SUM(E332:E346)","v":0},"２３頁"]

{"sheet":"印刷","index":2,"n_rows":31,"n_cols":8,"rows_kept":31,"cut":false,"hidden":false,"merged":[[8,4,9,4],[10,4,11,4],[12,4,13,4],[14,4,15,4],[0,4,1,4],[2,4,3,4],[4,4,5,4],[6,4,7,4],[24,4,25,4],[26,4,27,4],[28,4,29,4],[16,4,17,4],[18,4,19,4],[20,4,21,4],[22,4,23,4]]}
["Ｎｏ","■住所",{"$f":"IF(ISNA(MATCH(A2,ban,0)),\"\",VLOOKUP(A2,data,3,FALSE))","v":0},null,{"$f":"IF(ISNA(MATCH(A2,ban,0)),\"\",VLOOKUP(A2,data,5,FALSE))","v":0},null,"印刷Page",{"$f":"入力!H1","v":0}]
[16,"■氏名",{"$f":"IF(ISNA(MATCH(A2,ban,0)),\"\",VLOOKUP(A2,data,2,FALSE))","v":0},"様"]
["Ｎｏ","■住所",{"$f":"IF(ISNA(MATCH(A4,ban,0)),\"\",VLOOKUP(A4,data,3,FALSE))","v":0},null,{"$f":"IF(ISNA(MATCH(A4,ban,0)),\"\",VLOOKUP(A4,data,5,FALSE))","v":0}]
[{"$f":"A2+1","v":17},"■氏名",{"$f":"IF(ISNA(MATCH(A4,ban,0)),\"\",VLOOKUP(A4,data,2,FALSE))","v":0},"様"]
["Ｎｏ","■住所",{"$f":"IF(ISNA(MATCH(A6,ban,0)),\"\",VLOOKUP(A6,data,3,FALSE))","v":0},null,{"$f":"IF(ISNA(MATCH(A6,ban,0)),\"\",VLOOKUP(A6,data,5,FALSE))","v":0}]
[{"$f":"A4+1","v":18},"■氏名",{"$f":"IF(ISNA(MATCH(A6,ban,0)),\"\",VLOOKUP(A6,data,2,FALSE))","v":0},"様"]
["Ｎｏ","■住所",{"$f":"IF(ISNA(MATCH(A8,ban,0)),\"\",VLOOKUP(A8,data,3,FALSE))","v":0},null,{"$f":"IF(ISNA(MATCH(A8,ban,0)),\"\",VLOOKUP(A8,data,5,FALSE))","v":0}]
[{"$f":"A6+1","v":19},"■氏名",{"$f":"IF(ISNA(MATCH(A8,ban,0)),\"\",VLOOKUP(A8,data,2,FALSE))","v":0},"様"]
["Ｎｏ","■住所",{"$f":"IF(ISNA(MATCH(A10,ban,0)),\"\",VLOOKUP(A10,data,3,FALSE))","v":0},null,{"$f":"IF(ISNA(MATCH(A10,ban,0)),\"\",VLOOKUP(A10,data,5,FALSE))","v":0}]
[{"$f":"A8+1","v":20},"■氏名",{"$f":"IF(ISNA(MATCH(A10,ban,0)),\"\",VLOOKUP(A10,data,2,FALSE))","v":0},"様"]
["Ｎｏ","■住所",{"$f":"IF(ISNA(MATCH(A12,ban,0)),\"\",VLOOKUP(A12,data,3,FALSE))","v":0},null,{"$f":"IF(ISNA(MATCH(A12,ban,0)),\"\",VLOOKUP(A12,data,5,FALSE))","v":0}]
[{"$f":"A10+1","v":21},"■氏名",{"$f":"IF(ISNA(MATCH(A12,ban,0)),\"\",VLOOKUP(A12,data,2,FALSE))","v":0},"様"]
["Ｎｏ","■住所",{"$f":"IF(ISNA(MATCH(A14,ban,0)),\"\",VLOOKUP(A14,data,3,FALSE))","v":0},null,{"$f":"IF(ISNA(MATCH(A14,ban,0)),\"\",VLOOKUP(A14,data,5,FALSE))","v":0}]
[{"$f":"A12+1","v":22},"■氏名",{"$f":"IF(ISNA(MATCH(A14,ban,0)),\"\",VLOOKUP(A14,data,2,FALSE))","v":0},"様"]
["Ｎｏ","■住所",{"$f":"IF(ISNA(MATCH(A16,ban,0)),\"\",VLOOKUP(A16,data,3,FALSE))","v":0},null,{"$f":"IF(ISNA(MATCH(A16,ban,0)),\"\",VLOOKUP(A16,data,5,FALSE))","v":0}]
[{"$f":"A14+1","v":23},"■氏名",{"$f":"IF(ISNA(MATCH(A16,ban,0)),\"\",VLOOKUP(A16,data,2,FALSE))","v":0},"様"]
["Ｎｏ","■住所",{"$f":"IF(ISNA(MATCH(A18,ban,0)),\"\",VLOOKUP(A18,data,3,FALSE))","v":0},null,{"$f":"IF(ISNA(MATCH(A18,ban,0)),\"\",VLOOKUP(A18,data,5,FALSE))","v":0}]
[{"$f":"A16+1","v":24},"■氏名",{"$f":"IF(ISNA(MATCH(A18,ban,0)),\"\",VLOOKUP(A18,data,2,FALSE))","v":0},"様"]
["Ｎｏ","■住所",{"$f":"IF(ISNA(MATCH(A20,ban,0)),\"\",VLOOKUP(A20,data,3,FALSE))","v":0},null,{"$f":"IF(ISNA(MATCH(A20,ban,0)),\"\",VLOOKUP(A20,data,5,FALSE))","v":0}]
[{"$f":"A18+1","v":25},"■氏名",{"$f":"IF(ISNA(MATCH(A20,ban,0)),\"\",VLOOKUP(A20,data,2,FALSE))","v":0},"様"]
["Ｎｏ","■住所",{"$f":"IF(ISNA(MATCH(A22,ban,0)),\"\",VLOOKUP(A22,data,3,FALSE))","v":0},null,{"$f":"IF(ISNA(MATCH(A22,ban,0)),\"\",VLOOKUP(A22,data,5,FALSE))","v":0}]
[{"$f":"A20+1","v":26},"■氏名",{"$f":"IF(ISNA(MATCH(A22,ban,0)),\"\",VLOOKUP(A22,data,2,FALSE))","v":0},"様"]
["Ｎｏ","■住所",{"$f":"IF(ISNA(MATCH(A24,ban,0)),\"\",VLOOKUP(A24,data,3,FALSE))","v":0},null,{"$f":"IF(ISNA(MATCH(A24,ban,0)),\"\",VLOOKUP(A24,data,5,FALSE))","v":0}]
[{"$f":"A22+1","v":27},"■氏名",{"$f":"IF(ISNA(MATCH(A24,ban,0)),\"\",VLOOKUP(A24,data,2,FALSE))","v":0},"様"]
["Ｎｏ","■住所",{"$f":"IF(ISNA(MATCH(A26,ban,0)),\"\",VLOOKUP(A26,data,3,FALSE))","v":0},null,{"$f":"IF(ISNA(MATCH(A26,ban,0)),\"\",VLOOKUP(A26,data,5,FALSE))","v":0}]
[{"$f":"A24+1","v":28},"■氏名",{"$f":"IF(ISNA(MATCH(A26,ban,0)),\"\",VLOOKUP(A26,data,2,FALSE))","v":0},"様"]
["Ｎｏ","■住所",{"$f":"IF(ISNA(MATCH(A28,ban,0)),\"\",VLOOKUP(A28,data,3,FALSE))","v":0},null,{"$f":"IF(ISNA(MATCH(A28,ban,0)),\"\",VLOOKUP(A28,data,5,FALSE))","v":0}]
[{"$f":"A26+1","v":29},"■氏名",{"$f":"IF(ISNA(MATCH(A28,ban,0)),\"\",VLOOKUP(A28,data,2,FALSE))","v":0},"様"]
["Ｎｏ","■住所",{"$f":"IF(ISNA(MATCH(A30,ban,0)),\"\",VLOOKUP(A30,data,3,FALSE))","v":0},null,{"$f":"IF(ISNA(MATCH(A30,ban,0)),\"\",VLOOKUP(A30,data,5,FALSE))","v":0}]
[{"$f":"A28+1","v":30},"■氏名",{"$f":"IF(ISNA(MATCH(A30,ban,0)),\"\",VLOOKUP(A30,data,2,FALSE))","v":0},"様"]
[null,null,{"$f":"IF(ISNA(MATCH(A30,ban,0)),\"\",VLOOKUP(A30,data,8,FALSE))","v":"２頁"},"計",{"$f":"SUM(E1:E30)","v":0}]

{"sheet":"法名帳","index":3,"n_rows":103,"n_cols":8,"rows_kept":103,"cut":false,"hidden":false,"merged":[[99,1,99,3],[36,1,39,1],[29,1,35,1],[24,1,28,1],[10,1,23,1],[4,1,9,1],[4,2,30,2],[13,7,24,7],[3,7,12,7],[4,4,46,5]]}
[]
[]
[]
[null,null,{"$f":"Total!$A$3","v":"2021-08-13"},null,null,null,null,{"$f":"Total!$B$5","v":0}]
[null,"俗名",{"$f":"Total!A3","v":"2021-08-13"},null,"御香奠帳"]
[]
[]
[]
[]
[]
[null,{"$f":"Total!$B$6","v":0}]
[]
[]
[null,null,null,null,null,null,null,"家　法名"]
[]
[]
[]
[]
[]
[]
[]
[]
[]
[]
[null,"行年"]
[]
[]
[]
[]
[null,{"$f":"Total!$B$7","v":0}]
[]
[]
[]
[]
[]
[]
[null,"歳"]
[]
[]
[]
[]
[]
[]
[]
[]
[]
[]
[]
[]
[]
[]
[]
[]
[]
[]
[]
[]
[]
[]
[]
[]
[]
[]
[]
[]
[]
[]
[]
[]
[]
[]
[]
[]
[]
[]
[]
[]
[]
[]
[]
[]
[]
[]
[]
[]
[]
[]
[]
[]
[]
[]
[]
[]
[]
[]
[]
[]
[]
[]
[null,{"$f":"Total!A3","v":"2021-08-13"}]
[null,"年",{"$f":"YEAR(B100)","v":2021}]
[null,"月",{"$f":"MONTH(B100)","v":8}]
[null,"日",{"$f":"DAY(B100)","v":13}]